BEGIN:VCALENDAR
VERSION:2.0
PRODID:-//Cross Kingdom - ECPv6.15.17.1//NONSGML v1.0//EN
CALSCALE:GREGORIAN
METHOD:PUBLISH
X-ORIGINAL-URL:https://crosskingdom.org
X-WR-CALDESC:Events for Cross Kingdom
REFRESH-INTERVAL;VALUE=DURATION:PT1H
X-Robots-Tag:noindex
X-PUBLISHED-TTL:PT1H
BEGIN:VTIMEZONE
TZID:America/Chicago
BEGIN:DAYLIGHT
TZOFFSETFROM:-0600
TZOFFSETTO:-0500
TZNAME:CDT
DTSTART:20240310T080000
END:DAYLIGHT
BEGIN:STANDARD
TZOFFSETFROM:-0500
TZOFFSETTO:-0600
TZNAME:CST
DTSTART:20241103T070000
END:STANDARD
BEGIN:DAYLIGHT
TZOFFSETFROM:-0600
TZOFFSETTO:-0500
TZNAME:CDT
DTSTART:20250309T080000
END:DAYLIGHT
BEGIN:STANDARD
TZOFFSETFROM:-0500
TZOFFSETTO:-0600
TZNAME:CST
DTSTART:20251102T070000
END:STANDARD
BEGIN:DAYLIGHT
TZOFFSETFROM:-0600
TZOFFSETTO:-0500
TZNAME:CDT
DTSTART:20260308T080000
END:DAYLIGHT
BEGIN:STANDARD
TZOFFSETFROM:-0500
TZOFFSETTO:-0600
TZNAME:CST
DTSTART:20261101T070000
END:STANDARD
END:VTIMEZONE
BEGIN:VEVENT
DTSTART;TZID=America/Chicago:20251002T183000
DTEND;TZID=America/Chicago:20251002T200000
DTSTAMP:20260422T093035
CREATED:20211101T222352Z
LAST-MODIFIED:20250806T141821Z
UID:10006517-1759429800-1759435200@crosskingdom.org
SUMMARY:Recovered & Free
DESCRIPTION:Join Leslie Lehrmann for this Thursday Night group continuing the journey of being recovered and free.
URL:https://crosskingdom.org/event/recovered-free-2023-06-22/
LOCATION:Blue Sage\, 3044 Junction Hwy\, Kerrville\, TX\, 78028\, United States
CATEGORIES:Small Group
END:VEVENT
BEGIN:VEVENT
DTSTART;TZID=America/Chicago:20250925T183000
DTEND;TZID=America/Chicago:20250925T200000
DTSTAMP:20260422T093035
CREATED:20211101T222352Z
LAST-MODIFIED:20250806T141818Z
UID:10005058-1758825000-1758830400@crosskingdom.org
SUMMARY:Recovered & Free
DESCRIPTION:Join Leslie Lehrmann for this Thursday Night group continuing the journey of being recovered and free.
URL:https://crosskingdom.org/event/recovered-free-2023-05-25/
LOCATION:Blue Sage\, 3044 Junction Hwy\, Kerrville\, TX\, 78028\, United States
CATEGORIES:Small Group
END:VEVENT
BEGIN:VEVENT
DTSTART;TZID=America/Chicago:20250925T183000
DTEND;TZID=America/Chicago:20250925T200000
DTSTAMP:20260422T093035
CREATED:20211101T222352Z
LAST-MODIFIED:20250806T141819Z
UID:10005424-1758825000-1758830400@crosskingdom.org
SUMMARY:Recovered & Free
DESCRIPTION:Join Leslie Lehrmann for this Thursday Night group continuing the journey of being recovered and free.
URL:https://crosskingdom.org/event/recovered-free-2023-06-01/
LOCATION:Blue Sage\, 3044 Junction Hwy\, Kerrville\, TX\, 78028\, United States
CATEGORIES:Small Group
END:VEVENT
BEGIN:VEVENT
DTSTART;TZID=America/Chicago:20250925T183000
DTEND;TZID=America/Chicago:20250925T200000
DTSTAMP:20260422T093035
CREATED:20211101T222352Z
LAST-MODIFIED:20250806T141820Z
UID:10005789-1758825000-1758830400@crosskingdom.org
SUMMARY:Recovered & Free
DESCRIPTION:Join Leslie Lehrmann for this Thursday Night group continuing the journey of being recovered and free.
URL:https://crosskingdom.org/event/recovered-free-2023-06-08/
LOCATION:Blue Sage\, 3044 Junction Hwy\, Kerrville\, TX\, 78028\, United States
CATEGORIES:Small Group
END:VEVENT
BEGIN:VEVENT
DTSTART;TZID=America/Chicago:20250925T183000
DTEND;TZID=America/Chicago:20250925T200000
DTSTAMP:20260422T093035
CREATED:20211101T222352Z
LAST-MODIFIED:20250806T141821Z
UID:10006153-1758825000-1758830400@crosskingdom.org
SUMMARY:Recovered & Free
DESCRIPTION:Join Leslie Lehrmann for this Thursday Night group continuing the journey of being recovered and free.
URL:https://crosskingdom.org/event/recovered-free-2023-06-15/
LOCATION:Blue Sage\, 3044 Junction Hwy\, Kerrville\, TX\, 78028\, United States
CATEGORIES:Small Group
END:VEVENT
BEGIN:VEVENT
DTSTART;TZID=America/Chicago:20250925T183000
DTEND;TZID=America/Chicago:20250925T200000
DTSTAMP:20260422T093035
CREATED:20211101T222352Z
LAST-MODIFIED:20250806T141821Z
UID:10006516-1758825000-1758830400@crosskingdom.org
SUMMARY:Recovered & Free
DESCRIPTION:Join Leslie Lehrmann for this Thursday Night group continuing the journey of being recovered and free.
URL:https://crosskingdom.org/event/recovered-free-2023-06-22/
LOCATION:Blue Sage\, 3044 Junction Hwy\, Kerrville\, TX\, 78028\, United States
CATEGORIES:Small Group
END:VEVENT
BEGIN:VEVENT
DTSTART;TZID=America/Chicago:20250918T183000
DTEND;TZID=America/Chicago:20250918T200000
DTSTAMP:20260422T093035
CREATED:20211101T222352Z
LAST-MODIFIED:20250806T141818Z
UID:10005057-1758220200-1758225600@crosskingdom.org
SUMMARY:Recovered & Free
DESCRIPTION:Join Leslie Lehrmann for this Thursday Night group continuing the journey of being recovered and free.
URL:https://crosskingdom.org/event/recovered-free-2023-05-25/
LOCATION:Blue Sage\, 3044 Junction Hwy\, Kerrville\, TX\, 78028\, United States
CATEGORIES:Small Group
END:VEVENT
BEGIN:VEVENT
DTSTART;TZID=America/Chicago:20250918T183000
DTEND;TZID=America/Chicago:20250918T200000
DTSTAMP:20260422T093035
CREATED:20211101T222352Z
LAST-MODIFIED:20250806T141819Z
UID:10005423-1758220200-1758225600@crosskingdom.org
SUMMARY:Recovered & Free
DESCRIPTION:Join Leslie Lehrmann for this Thursday Night group continuing the journey of being recovered and free.
URL:https://crosskingdom.org/event/recovered-free-2023-06-01/
LOCATION:Blue Sage\, 3044 Junction Hwy\, Kerrville\, TX\, 78028\, United States
CATEGORIES:Small Group
END:VEVENT
BEGIN:VEVENT
DTSTART;TZID=America/Chicago:20250918T183000
DTEND;TZID=America/Chicago:20250918T200000
DTSTAMP:20260422T093035
CREATED:20211101T222352Z
LAST-MODIFIED:20250806T141820Z
UID:10005788-1758220200-1758225600@crosskingdom.org
SUMMARY:Recovered & Free
DESCRIPTION:Join Leslie Lehrmann for this Thursday Night group continuing the journey of being recovered and free.
URL:https://crosskingdom.org/event/recovered-free-2023-06-08/
LOCATION:Blue Sage\, 3044 Junction Hwy\, Kerrville\, TX\, 78028\, United States
CATEGORIES:Small Group
END:VEVENT
BEGIN:VEVENT
DTSTART;TZID=America/Chicago:20250918T183000
DTEND;TZID=America/Chicago:20250918T200000
DTSTAMP:20260422T093035
CREATED:20211101T222352Z
LAST-MODIFIED:20250806T141821Z
UID:10006152-1758220200-1758225600@crosskingdom.org
SUMMARY:Recovered & Free
DESCRIPTION:Join Leslie Lehrmann for this Thursday Night group continuing the journey of being recovered and free.
URL:https://crosskingdom.org/event/recovered-free-2023-06-15/
LOCATION:Blue Sage\, 3044 Junction Hwy\, Kerrville\, TX\, 78028\, United States
CATEGORIES:Small Group
END:VEVENT
BEGIN:VEVENT
DTSTART;TZID=America/Chicago:20250918T183000
DTEND;TZID=America/Chicago:20250918T200000
DTSTAMP:20260422T093035
CREATED:20211101T222352Z
LAST-MODIFIED:20250806T141821Z
UID:10006515-1758220200-1758225600@crosskingdom.org
SUMMARY:Recovered & Free
DESCRIPTION:Join Leslie Lehrmann for this Thursday Night group continuing the journey of being recovered and free.
URL:https://crosskingdom.org/event/recovered-free-2023-06-22/
LOCATION:Blue Sage\, 3044 Junction Hwy\, Kerrville\, TX\, 78028\, United States
CATEGORIES:Small Group
END:VEVENT
BEGIN:VEVENT
DTSTART;TZID=America/Chicago:20250911T183000
DTEND;TZID=America/Chicago:20250911T200000
DTSTAMP:20260422T093035
CREATED:20211101T222352Z
LAST-MODIFIED:20250806T141818Z
UID:10005056-1757615400-1757620800@crosskingdom.org
SUMMARY:Recovered & Free
DESCRIPTION:Join Leslie Lehrmann for this Thursday Night group continuing the journey of being recovered and free.
URL:https://crosskingdom.org/event/recovered-free-2023-05-25/
LOCATION:Blue Sage\, 3044 Junction Hwy\, Kerrville\, TX\, 78028\, United States
CATEGORIES:Small Group
END:VEVENT
BEGIN:VEVENT
DTSTART;TZID=America/Chicago:20250911T183000
DTEND;TZID=America/Chicago:20250911T200000
DTSTAMP:20260422T093035
CREATED:20211101T222352Z
LAST-MODIFIED:20250806T141819Z
UID:10005422-1757615400-1757620800@crosskingdom.org
SUMMARY:Recovered & Free
DESCRIPTION:Join Leslie Lehrmann for this Thursday Night group continuing the journey of being recovered and free.
URL:https://crosskingdom.org/event/recovered-free-2023-06-01/
LOCATION:Blue Sage\, 3044 Junction Hwy\, Kerrville\, TX\, 78028\, United States
CATEGORIES:Small Group
END:VEVENT
BEGIN:VEVENT
DTSTART;TZID=America/Chicago:20250911T183000
DTEND;TZID=America/Chicago:20250911T200000
DTSTAMP:20260422T093035
CREATED:20211101T222352Z
LAST-MODIFIED:20250806T141820Z
UID:10005787-1757615400-1757620800@crosskingdom.org
SUMMARY:Recovered & Free
DESCRIPTION:Join Leslie Lehrmann for this Thursday Night group continuing the journey of being recovered and free.
URL:https://crosskingdom.org/event/recovered-free-2023-06-08/
LOCATION:Blue Sage\, 3044 Junction Hwy\, Kerrville\, TX\, 78028\, United States
CATEGORIES:Small Group
END:VEVENT
BEGIN:VEVENT
DTSTART;TZID=America/Chicago:20250911T183000
DTEND;TZID=America/Chicago:20250911T200000
DTSTAMP:20260422T093035
CREATED:20211101T222352Z
LAST-MODIFIED:20250806T141821Z
UID:10006151-1757615400-1757620800@crosskingdom.org
SUMMARY:Recovered & Free
DESCRIPTION:Join Leslie Lehrmann for this Thursday Night group continuing the journey of being recovered and free.
URL:https://crosskingdom.org/event/recovered-free-2023-06-15/
LOCATION:Blue Sage\, 3044 Junction Hwy\, Kerrville\, TX\, 78028\, United States
CATEGORIES:Small Group
END:VEVENT
BEGIN:VEVENT
DTSTART;TZID=America/Chicago:20250911T183000
DTEND;TZID=America/Chicago:20250911T200000
DTSTAMP:20260422T093035
CREATED:20211101T222352Z
LAST-MODIFIED:20250806T141821Z
UID:10006514-1757615400-1757620800@crosskingdom.org
SUMMARY:Recovered & Free
DESCRIPTION:Join Leslie Lehrmann for this Thursday Night group continuing the journey of being recovered and free.
URL:https://crosskingdom.org/event/recovered-free-2023-06-22/
LOCATION:Blue Sage\, 3044 Junction Hwy\, Kerrville\, TX\, 78028\, United States
CATEGORIES:Small Group
END:VEVENT
BEGIN:VEVENT
DTSTART;TZID=America/Chicago:20250904T183000
DTEND;TZID=America/Chicago:20250904T200000
DTSTAMP:20260422T093035
CREATED:20211101T222352Z
LAST-MODIFIED:20250806T141818Z
UID:10005055-1757010600-1757016000@crosskingdom.org
SUMMARY:Recovered & Free
DESCRIPTION:Join Leslie Lehrmann for this Thursday Night group continuing the journey of being recovered and free.
URL:https://crosskingdom.org/event/recovered-free-2023-05-25/
LOCATION:Blue Sage\, 3044 Junction Hwy\, Kerrville\, TX\, 78028\, United States
CATEGORIES:Small Group
END:VEVENT
BEGIN:VEVENT
DTSTART;TZID=America/Chicago:20250904T183000
DTEND;TZID=America/Chicago:20250904T200000
DTSTAMP:20260422T093035
CREATED:20211101T222352Z
LAST-MODIFIED:20250806T141819Z
UID:10005421-1757010600-1757016000@crosskingdom.org
SUMMARY:Recovered & Free
DESCRIPTION:Join Leslie Lehrmann for this Thursday Night group continuing the journey of being recovered and free.
URL:https://crosskingdom.org/event/recovered-free-2023-06-01/
LOCATION:Blue Sage\, 3044 Junction Hwy\, Kerrville\, TX\, 78028\, United States
CATEGORIES:Small Group
END:VEVENT
BEGIN:VEVENT
DTSTART;TZID=America/Chicago:20250904T183000
DTEND;TZID=America/Chicago:20250904T200000
DTSTAMP:20260422T093035
CREATED:20211101T222352Z
LAST-MODIFIED:20250806T141820Z
UID:10005786-1757010600-1757016000@crosskingdom.org
SUMMARY:Recovered & Free
DESCRIPTION:Join Leslie Lehrmann for this Thursday Night group continuing the journey of being recovered and free.
URL:https://crosskingdom.org/event/recovered-free-2023-06-08/
LOCATION:Blue Sage\, 3044 Junction Hwy\, Kerrville\, TX\, 78028\, United States
CATEGORIES:Small Group
END:VEVENT
BEGIN:VEVENT
DTSTART;TZID=America/Chicago:20250904T183000
DTEND;TZID=America/Chicago:20250904T200000
DTSTAMP:20260422T093035
CREATED:20211101T222352Z
LAST-MODIFIED:20250806T141821Z
UID:10006150-1757010600-1757016000@crosskingdom.org
SUMMARY:Recovered & Free
DESCRIPTION:Join Leslie Lehrmann for this Thursday Night group continuing the journey of being recovered and free.
URL:https://crosskingdom.org/event/recovered-free-2023-06-15/
LOCATION:Blue Sage\, 3044 Junction Hwy\, Kerrville\, TX\, 78028\, United States
CATEGORIES:Small Group
END:VEVENT
BEGIN:VEVENT
DTSTART;TZID=America/Chicago:20250904T183000
DTEND;TZID=America/Chicago:20250904T200000
DTSTAMP:20260422T093035
CREATED:20211101T222352Z
LAST-MODIFIED:20250806T141821Z
UID:10006513-1757010600-1757016000@crosskingdom.org
SUMMARY:Recovered & Free
DESCRIPTION:Join Leslie Lehrmann for this Thursday Night group continuing the journey of being recovered and free.
URL:https://crosskingdom.org/event/recovered-free-2023-06-22/
LOCATION:Blue Sage\, 3044 Junction Hwy\, Kerrville\, TX\, 78028\, United States
CATEGORIES:Small Group
END:VEVENT
BEGIN:VEVENT
DTSTART;TZID=America/Chicago:20250828T183000
DTEND;TZID=America/Chicago:20250828T200000
DTSTAMP:20260422T093035
CREATED:20211101T222352Z
LAST-MODIFIED:20250806T141818Z
UID:10005054-1756405800-1756411200@crosskingdom.org
SUMMARY:Recovered & Free
DESCRIPTION:Join Leslie Lehrmann for this Thursday Night group continuing the journey of being recovered and free.
URL:https://crosskingdom.org/event/recovered-free-2023-05-25/
LOCATION:Blue Sage\, 3044 Junction Hwy\, Kerrville\, TX\, 78028\, United States
CATEGORIES:Small Group
END:VEVENT
BEGIN:VEVENT
DTSTART;TZID=America/Chicago:20250828T183000
DTEND;TZID=America/Chicago:20250828T200000
DTSTAMP:20260422T093035
CREATED:20211101T222352Z
LAST-MODIFIED:20250806T141819Z
UID:10005420-1756405800-1756411200@crosskingdom.org
SUMMARY:Recovered & Free
DESCRIPTION:Join Leslie Lehrmann for this Thursday Night group continuing the journey of being recovered and free.
URL:https://crosskingdom.org/event/recovered-free-2023-06-01/
LOCATION:Blue Sage\, 3044 Junction Hwy\, Kerrville\, TX\, 78028\, United States
CATEGORIES:Small Group
END:VEVENT
BEGIN:VEVENT
DTSTART;TZID=America/Chicago:20250828T183000
DTEND;TZID=America/Chicago:20250828T200000
DTSTAMP:20260422T093035
CREATED:20211101T222352Z
LAST-MODIFIED:20250806T141820Z
UID:10005785-1756405800-1756411200@crosskingdom.org
SUMMARY:Recovered & Free
DESCRIPTION:Join Leslie Lehrmann for this Thursday Night group continuing the journey of being recovered and free.
URL:https://crosskingdom.org/event/recovered-free-2023-06-08/
LOCATION:Blue Sage\, 3044 Junction Hwy\, Kerrville\, TX\, 78028\, United States
CATEGORIES:Small Group
END:VEVENT
BEGIN:VEVENT
DTSTART;TZID=America/Chicago:20250828T183000
DTEND;TZID=America/Chicago:20250828T200000
DTSTAMP:20260422T093035
CREATED:20211101T222352Z
LAST-MODIFIED:20250806T141821Z
UID:10006149-1756405800-1756411200@crosskingdom.org
SUMMARY:Recovered & Free
DESCRIPTION:Join Leslie Lehrmann for this Thursday Night group continuing the journey of being recovered and free.
URL:https://crosskingdom.org/event/recovered-free-2023-06-15/
LOCATION:Blue Sage\, 3044 Junction Hwy\, Kerrville\, TX\, 78028\, United States
CATEGORIES:Small Group
END:VEVENT
BEGIN:VEVENT
DTSTART;TZID=America/Chicago:20250828T183000
DTEND;TZID=America/Chicago:20250828T200000
DTSTAMP:20260422T093035
CREATED:20211101T222352Z
LAST-MODIFIED:20250806T141821Z
UID:10006512-1756405800-1756411200@crosskingdom.org
SUMMARY:Recovered & Free
DESCRIPTION:Join Leslie Lehrmann for this Thursday Night group continuing the journey of being recovered and free.
URL:https://crosskingdom.org/event/recovered-free-2023-06-22/
LOCATION:Blue Sage\, 3044 Junction Hwy\, Kerrville\, TX\, 78028\, United States
CATEGORIES:Small Group
END:VEVENT
BEGIN:VEVENT
DTSTART;TZID=America/Chicago:20250821T183000
DTEND;TZID=America/Chicago:20250821T200000
DTSTAMP:20260422T093035
CREATED:20211101T222352Z
LAST-MODIFIED:20250806T141818Z
UID:10005053-1755801000-1755806400@crosskingdom.org
SUMMARY:Recovered & Free
DESCRIPTION:Join Leslie Lehrmann for this Thursday Night group continuing the journey of being recovered and free.
URL:https://crosskingdom.org/event/recovered-free-2023-05-25/
LOCATION:Blue Sage\, 3044 Junction Hwy\, Kerrville\, TX\, 78028\, United States
CATEGORIES:Small Group
END:VEVENT
BEGIN:VEVENT
DTSTART;TZID=America/Chicago:20250821T183000
DTEND;TZID=America/Chicago:20250821T200000
DTSTAMP:20260422T093035
CREATED:20211101T222352Z
LAST-MODIFIED:20250806T141819Z
UID:10005419-1755801000-1755806400@crosskingdom.org
SUMMARY:Recovered & Free
DESCRIPTION:Join Leslie Lehrmann for this Thursday Night group continuing the journey of being recovered and free.
URL:https://crosskingdom.org/event/recovered-free-2023-06-01/
LOCATION:Blue Sage\, 3044 Junction Hwy\, Kerrville\, TX\, 78028\, United States
CATEGORIES:Small Group
END:VEVENT
BEGIN:VEVENT
DTSTART;TZID=America/Chicago:20250821T183000
DTEND;TZID=America/Chicago:20250821T200000
DTSTAMP:20260422T093035
CREATED:20211101T222352Z
LAST-MODIFIED:20250806T141820Z
UID:10005784-1755801000-1755806400@crosskingdom.org
SUMMARY:Recovered & Free
DESCRIPTION:Join Leslie Lehrmann for this Thursday Night group continuing the journey of being recovered and free.
URL:https://crosskingdom.org/event/recovered-free-2023-06-08/
LOCATION:Blue Sage\, 3044 Junction Hwy\, Kerrville\, TX\, 78028\, United States
CATEGORIES:Small Group
END:VEVENT
BEGIN:VEVENT
DTSTART;TZID=America/Chicago:20250821T183000
DTEND;TZID=America/Chicago:20250821T200000
DTSTAMP:20260422T093035
CREATED:20211101T222352Z
LAST-MODIFIED:20250806T141821Z
UID:10006148-1755801000-1755806400@crosskingdom.org
SUMMARY:Recovered & Free
DESCRIPTION:Join Leslie Lehrmann for this Thursday Night group continuing the journey of being recovered and free.
URL:https://crosskingdom.org/event/recovered-free-2023-06-15/
LOCATION:Blue Sage\, 3044 Junction Hwy\, Kerrville\, TX\, 78028\, United States
CATEGORIES:Small Group
END:VEVENT
END:VCALENDAR